BEGIN:VCALENDAR
VERSION:2.0
PRODID:-//Illinois Arborist Association - ECPv6.15.20//NONSGML v1.0//EN
CALSCALE:GREGORIAN
METHOD:PUBLISH
X-WR-CALNAME:Illinois Arborist Association
X-ORIGINAL-URL:https://illinoisarborist.org
X-WR-CALDESC:Events for Illinois Arborist Association
REFRESH-INTERVAL;VALUE=DURATION:PT1H
X-Robots-Tag:noindex
X-PUBLISHED-TTL:PT1H
BEGIN:VTIMEZONE
TZID:America/New_York
BEGIN:DAYLIGHT
TZOFFSETFROM:-0500
TZOFFSETTO:-0400
TZNAME:EDT
DTSTART:20250309T070000
END:DAYLIGHT
BEGIN:STANDARD
TZOFFSETFROM:-0400
TZOFFSETTO:-0500
TZNAME:EST
DTSTART:20251102T060000
END:STANDARD
BEGIN:DAYLIGHT
TZOFFSETFROM:-0500
TZOFFSETTO:-0400
TZNAME:EDT
DTSTART:20260308T070000
END:DAYLIGHT
BEGIN:STANDARD
TZOFFSETFROM:-0400
TZOFFSETTO:-0500
TZNAME:EST
DTSTART:20261101T060000
END:STANDARD
BEGIN:DAYLIGHT
TZOFFSETFROM:-0500
TZOFFSETTO:-0400
TZNAME:EDT
DTSTART:20270314T070000
END:DAYLIGHT
BEGIN:STANDARD
TZOFFSETFROM:-0400
TZOFFSETTO:-0500
TZNAME:EST
DTSTART:20271107T060000
END:STANDARD
END:VTIMEZONE
BEGIN:VEVENT
DTSTART;TZID=America/New_York:20260319T100000
DTEND;TZID=America/New_York:20260319T120000
DTSTAMP:20260423T071214
CREATED:20260223T171341Z
LAST-MODIFIED:20260223T171341Z
UID:10000858-1773914400-1773921600@illinoisarborist.org
SUMMARY:NW UCFF Meeting - The 3rd Rail of Trees on Private Property in Urban Forestry
DESCRIPTION:
URL:https://illinoisarborist.org/event/nw-ucff-meeting-the-3rd-rail-of-trees-on-private-property-in-urban-forestry/
LOCATION:Village of Lombard\, 255 E Wilson Ave.\, Lombard\, IL\, 60148\, United States
CATEGORIES:Urban Community Forestry Forum (UCFF)
END:VEVENT
BEGIN:VEVENT
DTSTART;TZID=America/New_York:20260319T180000
DTEND;TZID=America/New_York:20260319T200000
DTSTAMP:20260423T071214
CREATED:20260218T190707Z
LAST-MODIFIED:20260218T190707Z
UID:10000857-1773943200-1773950400@illinoisarborist.org
SUMMARY:NW UCFF Meeting - Pests & Diseases of Trees 2026
DESCRIPTION:
URL:https://illinoisarborist.org/event/ucff-meeting-3-19-2026/
LOCATION:Moline Public Works\, 3635 4th Ave.\, Moline\, IL\, 61265\, United States
CATEGORIES:Urban Community Forestry Forum (UCFF)
END:VEVENT
BEGIN:VEVENT
DTSTART;TZID=America/New_York:20260324T120000
DTEND;TZID=America/New_York:20260324T160000
DTSTAMP:20260423T071214
CREATED:20260223T171758Z
LAST-MODIFIED:20260223T171758Z
UID:10000859-1774353600-1774368000@illinoisarborist.org
SUMMARY:NW UCFF Meeting - Fruit Tree Pruning and Planting Workshop
DESCRIPTION:
URL:https://illinoisarborist.org/event/nw-ucff-meeting-fruit-tree-pruning-and-planting-workshop/
LOCATION:Stella Sawmill\, 850 2nd Ave West\, Milan\, IL\, 61264\, United States
CATEGORIES:Urban Community Forestry Forum (UCFF)
END:VEVENT
END:VCALENDAR