BEGIN:VCALENDAR
VERSION:2.0
PRODID:-//Illinois Arborist Association - ECPv6.15.20//NONSGML v1.0//EN
CALSCALE:GREGORIAN
METHOD:PUBLISH
X-ORIGINAL-URL:https://illinoisarborist.org
X-WR-CALDESC:Events for Illinois Arborist Association
REFRESH-INTERVAL;VALUE=DURATION:PT1H
X-Robots-Tag:noindex
X-PUBLISHED-TTL:PT1H
BEGIN:VTIMEZONE
TZID:America/New_York
BEGIN:DAYLIGHT
TZOFFSETFROM:-0500
TZOFFSETTO:-0400
TZNAME:EDT
DTSTART:20250309T070000
END:DAYLIGHT
BEGIN:STANDARD
TZOFFSETFROM:-0400
TZOFFSETTO:-0500
TZNAME:EST
DTSTART:20251102T060000
END:STANDARD
BEGIN:DAYLIGHT
TZOFFSETFROM:-0500
TZOFFSETTO:-0400
TZNAME:EDT
DTSTART:20260308T070000
END:DAYLIGHT
BEGIN:STANDARD
TZOFFSETFROM:-0400
TZOFFSETTO:-0500
TZNAME:EST
DTSTART:20261101T060000
END:STANDARD
BEGIN:DAYLIGHT
TZOFFSETFROM:-0500
TZOFFSETTO:-0400
TZNAME:EDT
DTSTART:20270314T070000
END:DAYLIGHT
BEGIN:STANDARD
TZOFFSETFROM:-0400
TZOFFSETTO:-0500
TZNAME:EST
DTSTART:20271107T060000
END:STANDARD
END:VTIMEZONE
BEGIN:VEVENT
DTSTART;TZID=America/New_York:20260606T070000
DTEND;TZID=America/New_York:20260606T160000
DTSTAMP:20260421T202417
CREATED:20260324T155356Z
LAST-MODIFIED:20260324T155356Z
UID:10000864-1780729200-1780761600@illinoisarborist.org
SUMMARY:Illinois Tree Climbing Championship
DESCRIPTION:
URL:https://illinoisarborist.org/event/illinois-tree-climbing-championship/
LOCATION:Greene Valley Forest Preserve\, 23W785 79th St\, Naperville\, IL\, 60565\, United States
CATEGORIES:Tree Climbing Events
END:VEVENT
BEGIN:VEVENT
DTSTART;TZID=America/New_York:20260607T070000
DTEND;TZID=America/New_York:20260607T160000
DTSTAMP:20260421T202417
CREATED:20260324T155928Z
LAST-MODIFIED:20260324T155928Z
UID:10000865-1780815600-1780848000@illinoisarborist.org
SUMMARY:Illinois Tree Climbing Championship
DESCRIPTION:
URL:https://illinoisarborist.org/event/illinois-tree-climbing-championship-2/
LOCATION:Greene Valley Forest Preserve\, 23W785 79th St\, Naperville\, IL\, 60565\, United States
CATEGORIES:Tree Climbing Events
END:VEVENT
END:VCALENDAR