BEGIN:VCALENDAR
VERSION:2.0
PRODID:-//Illinois Arborist Association - ECPv6.15.20//NONSGML v1.0//EN
CALSCALE:GREGORIAN
METHOD:PUBLISH
X-ORIGINAL-URL:https://illinoisarborist.org
X-WR-CALDESC:Events for Illinois Arborist Association
REFRESH-INTERVAL;VALUE=DURATION:PT1H
X-Robots-Tag:noindex
X-PUBLISHED-TTL:PT1H
BEGIN:VTIMEZONE
TZID:America/New_York
BEGIN:DAYLIGHT
TZOFFSETFROM:-0500
TZOFFSETTO:-0400
TZNAME:EDT
DTSTART:20250309T070000
END:DAYLIGHT
BEGIN:STANDARD
TZOFFSETFROM:-0400
TZOFFSETTO:-0500
TZNAME:EST
DTSTART:20251102T060000
END:STANDARD
BEGIN:DAYLIGHT
TZOFFSETFROM:-0500
TZOFFSETTO:-0400
TZNAME:EDT
DTSTART:20260308T070000
END:DAYLIGHT
BEGIN:STANDARD
TZOFFSETFROM:-0400
TZOFFSETTO:-0500
TZNAME:EST
DTSTART:20261101T060000
END:STANDARD
BEGIN:DAYLIGHT
TZOFFSETFROM:-0500
TZOFFSETTO:-0400
TZNAME:EDT
DTSTART:20270314T070000
END:DAYLIGHT
BEGIN:STANDARD
TZOFFSETFROM:-0400
TZOFFSETTO:-0500
TZNAME:EST
DTSTART:20271107T060000
END:STANDARD
END:VTIMEZONE
BEGIN:VEVENT
DTSTART;TZID=America/New_York:20260403T080000
DTEND;TZID=America/New_York:20260403T113000
DTSTAMP:20260423T104929
CREATED:20260107T174532Z
LAST-MODIFIED:20260107T174532Z
UID:10000790-1775203200-1775215800@illinoisarborist.org
SUMMARY:Schaumburg - ISA TRAQ 3.0 Course
DESCRIPTION:
URL:https://illinoisarborist.org/event/schaumburg-isa-traq-3-0-course-3/
LOCATION:Schaumburg TRAQ\, 714 S Plum Grove Rd\, Schaumburg\, IL\, 60193\, United States
CATEGORIES:TRAQ Course
END:VEVENT
BEGIN:VEVENT
DTSTART;TZID=America/New_York:20260402T073000
DTEND;TZID=America/New_York:20260402T170000
DTSTAMP:20260423T104929
CREATED:20260107T174236Z
LAST-MODIFIED:20260107T174236Z
UID:10000788-1775115000-1775149200@illinoisarborist.org
SUMMARY:Schaumburg - ISA TRAQ 3.0 Course
DESCRIPTION:
URL:https://illinoisarborist.org/event/schaumburg-isa-traq-3-0-course-2/
LOCATION:Schaumburg TRAQ\, 714 S Plum Grove Rd\, Schaumburg\, IL\, 60193\, United States
CATEGORIES:TRAQ Course
END:VEVENT
BEGIN:VEVENT
DTSTART;TZID=America/New_York:20260401T073000
DTEND;TZID=America/New_York:20260401T170000
DTSTAMP:20260423T104929
CREATED:20260107T173951Z
LAST-MODIFIED:20260107T173951Z
UID:10000787-1775028600-1775062800@illinoisarborist.org
SUMMARY:Schaumburg - ISA TRAQ 3.0 Course
DESCRIPTION:
URL:https://illinoisarborist.org/event/schaumburg-isa-traq-3-0-course/
LOCATION:Schaumburg TRAQ\, 714 S Plum Grove Rd\, Schaumburg\, IL\, 60193\, United States
CATEGORIES:TRAQ Course
END:VEVENT
END:VCALENDAR