BEGIN:VCALENDAR
VERSION:2.0
PRODID:-//Illinois Arborist Association - ECPv6.15.20//NONSGML v1.0//EN
CALSCALE:GREGORIAN
METHOD:PUBLISH
X-WR-CALNAME:Illinois Arborist Association
X-ORIGINAL-URL:https://illinoisarborist.org
X-WR-CALDESC:Events for Illinois Arborist Association
REFRESH-INTERVAL;VALUE=DURATION:PT1H
X-Robots-Tag:noindex
X-PUBLISHED-TTL:PT1H
BEGIN:VTIMEZONE
TZID:America/New_York
BEGIN:DAYLIGHT
TZOFFSETFROM:-0500
TZOFFSETTO:-0400
TZNAME:EDT
DTSTART:20250309T070000
END:DAYLIGHT
BEGIN:STANDARD
TZOFFSETFROM:-0400
TZOFFSETTO:-0500
TZNAME:EST
DTSTART:20251102T060000
END:STANDARD
BEGIN:DAYLIGHT
TZOFFSETFROM:-0500
TZOFFSETTO:-0400
TZNAME:EDT
DTSTART:20260308T070000
END:DAYLIGHT
BEGIN:STANDARD
TZOFFSETFROM:-0400
TZOFFSETTO:-0500
TZNAME:EST
DTSTART:20261101T060000
END:STANDARD
BEGIN:DAYLIGHT
TZOFFSETFROM:-0500
TZOFFSETTO:-0400
TZNAME:EDT
DTSTART:20270314T070000
END:DAYLIGHT
BEGIN:STANDARD
TZOFFSETFROM:-0400
TZOFFSETTO:-0500
TZNAME:EST
DTSTART:20271107T060000
END:STANDARD
END:VTIMEZONE
BEGIN:VEVENT
DTSTART;TZID=America/New_York:20260512T070000
DTEND;TZID=America/New_York:20260512T160000
DTSTAMP:20260421T222247
CREATED:20260324T161802Z
LAST-MODIFIED:20260324T161802Z
UID:10000867-1778569200-1778601600@illinoisarborist.org
SUMMARY:SIU Forestry Field Days
DESCRIPTION:
URL:https://illinoisarborist.org/event/siu-forestry-field-days-4/
LOCATION:Touch of Nature\, 1206 Touch of Nature Rd\, Makanda\, IL\, 62958\, United States
CATEGORIES:Student & Career Events
END:VEVENT
END:VCALENDAR