BEGIN:VCALENDAR
VERSION:2.0
PRODID:-//Illinois Arborist Association - ECPv6.15.20//NONSGML v1.0//EN
CALSCALE:GREGORIAN
METHOD:PUBLISH
X-WR-CALNAME:Illinois Arborist Association
X-ORIGINAL-URL:https://illinoisarborist.org
X-WR-CALDESC:Events for Illinois Arborist Association
REFRESH-INTERVAL;VALUE=DURATION:PT1H
X-Robots-Tag:noindex
X-PUBLISHED-TTL:PT1H
BEGIN:VTIMEZONE
TZID:America/New_York
BEGIN:DAYLIGHT
TZOFFSETFROM:-0500
TZOFFSETTO:-0400
TZNAME:EDT
DTSTART:20250309T070000
END:DAYLIGHT
BEGIN:STANDARD
TZOFFSETFROM:-0400
TZOFFSETTO:-0500
TZNAME:EST
DTSTART:20251102T060000
END:STANDARD
BEGIN:DAYLIGHT
TZOFFSETFROM:-0500
TZOFFSETTO:-0400
TZNAME:EDT
DTSTART:20260308T070000
END:DAYLIGHT
BEGIN:STANDARD
TZOFFSETFROM:-0400
TZOFFSETTO:-0500
TZNAME:EST
DTSTART:20261101T060000
END:STANDARD
BEGIN:DAYLIGHT
TZOFFSETFROM:-0500
TZOFFSETTO:-0400
TZNAME:EDT
DTSTART:20270314T070000
END:DAYLIGHT
BEGIN:STANDARD
TZOFFSETFROM:-0400
TZOFFSETTO:-0500
TZNAME:EST
DTSTART:20271107T060000
END:STANDARD
END:VTIMEZONE
BEGIN:VEVENT
DTSTART;TZID=America/New_York:20260421T063000
DTEND;TZID=America/New_York:20260421T140000
DTSTAMP:20260421T191441
CREATED:20260304T172406Z
LAST-MODIFIED:20260304T172406Z
UID:10000863-1776753000-1776780000@illinoisarborist.org
SUMMARY:Advanced Training - MRS Climbing (Day 2)
DESCRIPTION:
URL:https://illinoisarborist.org/event/advanced-training-mrs-climbing-day-2/
LOCATION:Lincoln Park Zoo\, 2300 N Cannon Dr.\, Chicago\, IL\, 60614\, United States
CATEGORIES:Advanced Training
END:VEVENT
BEGIN:VEVENT
DTSTART;TZID=America/New_York:20260421T180000
DTEND;TZID=America/New_York:20260421T203000
DTSTAMP:20260421T191441
CREATED:20260121T202356Z
LAST-MODIFIED:20260121T202356Z
UID:10000842-1776794400-1776803400@illinoisarborist.org
SUMMARY:ISA Certified Arborist Exam Prep Course - Spring 2026\, Virtual
DESCRIPTION:
URL:https://illinoisarborist.org/event/isa-certified-arborist-exam-prep-course-spring-2026-virtual/2026-04-21/
LOCATION:
CATEGORIES:ISA Certified Arborist Prep Course
END:VEVENT
END:VCALENDAR